{
 "currentVersion": 11.5,
 "cimVersion": "3.5.0",
 "serviceDescription": "",
 "mapName": "Norden",
 "description": "",
 "copyrightText": "",
 "supportsDynamicLayers": false,
 "layers": [
  {
   "id": 0,
   "name": "Norden",
   "parentLayerId": -1,
   "defaultVisibility": true,
   "subLayerIds": null,
   "minScale": 0,
   "maxScale": 0,
   "type": "Feature Layer",
   "geometryType": "esriGeometryPolygon",
   "supportsDynamicLegends": true
  }
 ],
 "tables": [],
 "spatialReference": {
  "wkid": 3006,
  "latestWkid": 3006,
  "xyTolerance": 0.001,
  "zTolerance": 0.001,
  "mTolerance": 0.001,
  "falseX": -5120900,
  "falseY": -9998100,
  "xyUnits": 10000,
  "falseZ": -100000,
  "zUnits": 10000,
  "falseM": -100000,
  "mUnits": 10000
 },
 "singleFusedMapCache": true,
 "tileInfo": {
  "rows": 256,
  "cols": 256,
  "dpi": 96,
  "format": "PNG",
  "compressionQuality": 0,
  "origin": {
   "x": -1200000,
   "y": 8500000
  },
  "spatialReference": {
   "wkid": 3006,
   "latestWkid": 3006,
   "xyTolerance": 0.001,
   "zTolerance": 0.001,
   "mTolerance": 0.001,
   "falseX": -5120900,
   "falseY": -9998100,
   "xyUnits": 10000,
   "falseZ": -100000,
   "zUnits": 10000,
   "falseM": -100000,
   "mUnits": 10000
  },
  "lods": [
   {
    "level": 0,
    "resolution": 4096.008223266447,
    "scale": 15480945
   },
   {
    "level": 1,
    "resolution": 2056.9998306663283,
    "scale": 7774472
   },
   {
    "level": 2,
    "resolution": 1024.001989670646,
    "scale": 3870236
   },
   {
    "level": 3,
    "resolution": 512.000994835323,
    "scale": 1935118
   },
   {
    "level": 4,
    "resolution": 256.0004974176615,
    "scale": 967559
   },
   {
    "level": 5,
    "resolution": 128.00038100076202,
    "scale": 483780
   },
   {
    "level": 6,
    "resolution": 64.00019050038101,
    "scale": 241890
   },
   {
    "level": 7,
    "resolution": 32.000095250190505,
    "scale": 120945
   },
   {
    "level": 8,
    "resolution": 15.999915333164001,
    "scale": 60472
   },
   {
    "level": 9,
    "resolution": 7.9999576665820005,
    "scale": 30236
   },
   {
    "level": 10,
    "resolution": 3.9999788332910002,
    "scale": 15118
   },
   {
    "level": 11,
    "resolution": 1.9999894166455001,
    "scale": 7559
   },
   {
    "level": 12,
    "resolution": 1.0001270002540006,
    "scale": 3780
   },
   {
    "level": 13,
    "resolution": 0.5000635001270003,
    "scale": 1890
   }
  ]
 },
 "storageInfo": {
  "storageFormat": "esriMapCacheStorageModeCompactV2",
  "packetSize": 128
 },
 "initialExtent": {
  "xmin": -2289026.8914646097,
  "ymin": 4506977.047142861,
  "xmax": 3689026.8914646097,
  "ymax": 8693022.952857139,
  "spatialReference": {
   "wkid": 3006,
   "latestWkid": 3006,
   "xyTolerance": 0.001,
   "zTolerance": 0.001,
   "mTolerance": 0.001,
   "falseX": -5120900,
   "falseY": -9998100,
   "xyUnits": 10000,
   "falseZ": -100000,
   "zUnits": 10000,
   "falseM": -100000,
   "mUnits": 10000
  }
 },
 "fullExtent": {
  "xmin": -1200000,
  "ymin": 4700000,
  "xmax": 2600000,
  "ymax": 8500000,
  "spatialReference": {
   "wkid": 3006,
   "latestWkid": 3006,
   "xyTolerance": 0.001,
   "zTolerance": 0.001,
   "mTolerance": 0.001,
   "falseX": -5120900,
   "falseY": -9998100,
   "xyUnits": 10000,
   "falseZ": -100000,
   "zUnits": 10000,
   "falseM": -100000,
   "mUnits": 10000
  }
 },
 "datesInUnknownTimezone": false,
 "minScale": 15480945,
 "maxScale": 1890,
 "units": "esriMeters",
 "supportedImageFormatTypes": "PNG32,PNG24,PNG,JPG,DIB,TIFF,EMF,PS,PDF,GIF,SVG,SVGZ,BMP",
 "documentInfo": {
  "Title": "U",
  "Author": "",
  "Comments": "",
  "Subject": "",
  "Category": "",
  "Version": "2.8.0",
  "AntialiasingMode": "Fast",
  "TextAntialiasingMode": "Force",
  "Keywords": "Norden"
 },
 "supportsQueryDomains": true,
 "capabilities": "Map",
 "supportedQueryFormats": "JSON, geoJSON, PBF",
 "exportTilesAllowed": true,
 "maxExportTilesCount": 100000,
 "referenceScale": 0.0,
 "datumTransformations": [
  {
   "geoTransforms": [
    {
     "wkt2": "COORDINATEOPERATION[\"sweref_wgs84\",SOURCECRS[GEOGCRS[\"GCS_SWEREF99\",DATUM[\"D_SWEREF99\",ELLIPSOID[\"GRS_1980\",6378137.0,298.257222101,LENGTHUNIT[\"Meter\",1.0]]],PRIMEM[\"Greenwich\",0.0,ANGLEUNIT[\"Degree\",0.0174532925199433]],CS[ellipsoidal,2],AXIS[\"Latitude (lat)\",north,ORDER[1],ANGLEUNIT[\"Degree\",0.0174532925199433]],AXIS[\"Longitude (lon)\",east,ORDER[2],ANGLEUNIT[\"Degree\",0.0174532925199433]]]],TARGETCRS[GEOGCRS[\"GCS_WGS_1984\",DATUM[\"D_WGS_1984\",ELLIPSOID[\"WGS_1984\",6378137.0,298.257223563,LENGTHUNIT[\"Meter\",1.0]]],PRIMEM[\"Greenwich\",0.0,ANGLEUNIT[\"Degree\",0.0174532925199433]],CS[ellipsoidal,2],AXIS[\"Latitude (lat)\",north,ORDER[1],ANGLEUNIT[\"Degree\",0.0174532925199433]],AXIS[\"Longitude (lon)\",east,ORDER[2],ANGLEUNIT[\"Degree\",0.0174532925199433]]]],METHOD[\"Null\"]]",
     "wkt": "GEOGTRAN[\"sweref_wgs84\",GEOGCS[\"GCS_SWEREF99\",DATUM[\"D_SWEREF99\",SPHEROID[\"GRS_1980\",6378137.0,298.257222101]],PRIMEM[\"Greenwich\",0.0],UNIT[\"Degree\",0.0174532925199433]],GEOGCS[\"GCS_WGS_1984\",DATUM[\"D_WGS_1984\",SPHEROID[\"WGS_1984\",6378137.0,298.257223563]],PRIMEM[\"Greenwich\",0.0],UNIT[\"Degree\",0.0174532925199433]],METHOD[\"Null\"]]",
     "transformForward": true,
     "name": "sweref_wgs84"
    }
   ]
  },
  {
   "geoTransforms": [
    {
     "wkt2": "COORDINATEOPERATION[\"sweref_wgs84\",SOURCECRS[GEOGCRS[\"GCS_SWEREF99\",DATUM[\"D_SWEREF99\",ELLIPSOID[\"GRS_1980\",6378137.0,298.257222101,LENGTHUNIT[\"Meter\",1.0]]],PRIMEM[\"Greenwich\",0.0,ANGLEUNIT[\"Degree\",0.0174532925199433]],CS[ellipsoidal,2],AXIS[\"Latitude (lat)\",north,ORDER[1],ANGLEUNIT[\"Degree\",0.0174532925199433]],AXIS[\"Longitude (lon)\",east,ORDER[2],ANGLEUNIT[\"Degree\",0.0174532925199433]]]],TARGETCRS[GEOGCRS[\"GCS_WGS_1984\",DATUM[\"D_WGS_1984\",ELLIPSOID[\"WGS_1984\",6378137.0,298.257223563,LENGTHUNIT[\"Meter\",1.0]]],PRIMEM[\"Greenwich\",0.0,ANGLEUNIT[\"Degree\",0.0174532925199433]],CS[ellipsoidal,2],AXIS[\"Latitude (lat)\",north,ORDER[1],ANGLEUNIT[\"Degree\",0.0174532925199433]],AXIS[\"Longitude (lon)\",east,ORDER[2],ANGLEUNIT[\"Degree\",0.0174532925199433]]]],METHOD[\"Null\"]]",
     "wkt": "GEOGTRAN[\"sweref_wgs84\",GEOGCS[\"GCS_SWEREF99\",DATUM[\"D_SWEREF99\",SPHEROID[\"GRS_1980\",6378137.0,298.257222101]],PRIMEM[\"Greenwich\",0.0],UNIT[\"Degree\",0.0174532925199433]],GEOGCS[\"GCS_WGS_1984\",DATUM[\"D_WGS_1984\",SPHEROID[\"WGS_1984\",6378137.0,298.257223563]],PRIMEM[\"Greenwich\",0.0],UNIT[\"Degree\",0.0174532925199433]],METHOD[\"Null\"]]",
     "transformForward": false,
     "name": "sweref_wgs84"
    }
   ]
  }
 ],
 "supportsDatumTransformation": true,
 "archivingInfo": {
  "supportsHistoricMoment": false
 },
 "supportsClipping": true,
 "supportsSpatialFilter": true,
 "supportsTimeRelation": true,
 "supportsQueryDataElements": true,
 "mapUnits": {
  "uwkid": 9001
 },
 "maxSelectionCount": 2000,
 "maxRecordCount": 2000,
 "maxImageHeight": 4096,
 "maxImageWidth": 4096,
 "supportedExtensions": "",
 "resampling": false,
 "serviceItemId": "0f74f2ee155442f5a5e21d3e47aa1df0"
}
